BEGIN:VCALENDAR
VERSION:2.0
PRODID:-//VRIM Verband Rheintaler Interim Manager - ECPv6.15.20//NONSGML v1.0//EN
CALSCALE:GREGORIAN
METHOD:PUBLISH
X-ORIGINAL-URL:https://rheintal-interim.org
X-WR-CALDESC:Veranstaltungen für VRIM Verband Rheintaler Interim Manager
REFRESH-INTERVAL;VALUE=DURATION:PT1H
X-Robots-Tag:noindex
X-PUBLISHED-TTL:PT1H
BEGIN:VTIMEZONE
TZID:Europe/Vaduz
BEGIN:DAYLIGHT
TZOFFSETFROM:+0100
TZOFFSETTO:+0200
TZNAME:CEST
DTSTART:20220327T010000
END:DAYLIGHT
BEGIN:STANDARD
TZOFFSETFROM:+0200
TZOFFSETTO:+0100
TZNAME:CET
DTSTART:20221030T010000
END:STANDARD
BEGIN:DAYLIGHT
TZOFFSETFROM:+0100
TZOFFSETTO:+0200
TZNAME:CEST
DTSTART:20230326T010000
END:DAYLIGHT
BEGIN:STANDARD
TZOFFSETFROM:+0200
TZOFFSETTO:+0100
TZNAME:CET
DTSTART:20231029T010000
END:STANDARD
BEGIN:DAYLIGHT
TZOFFSETFROM:+0100
TZOFFSETTO:+0200
TZNAME:CEST
DTSTART:20240331T010000
END:DAYLIGHT
BEGIN:STANDARD
TZOFFSETFROM:+0200
TZOFFSETTO:+0100
TZNAME:CET
DTSTART:20241027T010000
END:STANDARD
END:VTIMEZONE
BEGIN:VEVENT
DTSTART;TZID=Europe/Vaduz:20230922T120000
DTEND;TZID=Europe/Vaduz:20230922T180000
DTSTAMP:20260426T045406
CREATED:20221213T103312Z
LAST-MODIFIED:20230921T081120Z
UID:4276-1695384000-1695405600@rheintal-interim.org
SUMMARY:VRIM Extern – Jubiläumsveranstaltung „10-Jahre-VRIM“
DESCRIPTION:Am 1. Februar 2013 wurde der Verband Rheintaler Interim Manager VRIM – Rheintal Interim in Vaduz gegründet. Aus diesem Anlass und dem resultierenden 10 jährigen Jubiläum führt der VRIM eine Jubiläums-Veranstaltung durch mit dem Thema: \n\n\n\n„Die Zukunft des Interim Managements und die Akquisitionskanäle“\n\n\n\nDie Veranstaltung findet statt am 22. September 2023\, 13.00 h. Als Veranstaltungsort ist das Eventhotel „FIRMAMENT„\, RÖMERGRUND 1\, 6830 RANKWEIL\, AUSTRIA\, geplant. (Google maps)\, \n\n\n\nWir freuen uns und sind Stolz unter anderem Wolfgang Bosbach \n \nfür eine Keynote mit dem Thema„Krieg und Krisen – Deutschland und Europa im Stresstest“ankündigen zu dürfen. \nBei weiteren Themen und Keynotes  wird aufgezeigt wie bei folgenden Akquisitionskanälen\, Sie als Interim Manager oder selbstständiger Unternehmensberater einfach zu Mandaten und Aufträgen kommen können.  \n\n\n\nKanal Eigenes Netzwerk\nKanal Verbände\n\n\n\nKanal Provider\n\n\n\nKanal Portale\n\n\n\nKanal Social Media\n\n\n\nKanal Wirtschaftsverbände\n\n\n\nPodiumsdiskussion: Provider\, Portale\, Social Media\, Interim ManagerIm Anschluss wird ein Networking Apero serviert.\n\n\n\n\nFür Provider\, Portale\, Wirtschaftsverbände oder interessierte Unternehmen bieten wir die Möglichkeit\, sich zu präsentieren. Melden Sie Ihr Interesse an VRIM Vorstand. \n\nIm beigefügten Flyer finden Sie die detaillierten Informationen zu den Themen und Referenten. \n\n\nDie Anmeldung ist erst mit der Einzahlung des Unkostenbeitrages von EUR/CHF 110 – für den Anlass inkl. den Networking Apero gültig. \nACHTUNG: Teilnehmerzahl beschränkt. Übernachtungskontingent bis 31. August 2023 reserviert \nBankverbindung: \nKonto CHF: CH82 8080 8003 1902 5374 4BC-Nummer: 81251 \nKonto EUR: CH52 8080 8008 2337 0536 1SWIFT-BIC: RAIFCH22C51 \nLassen Sie sich diesen von allen Interim Management Verbänden getragenen Anlass nicht entgehen. Es war noch nie so einfach zu verstehen\, wie Interim Manager und Unternehmensberater zu Mandaten und Aufträgen kommen. \n\n\n\nBitte leiten Sie diese Einladung in Ihrem Netzwerk an interessierte Interim Manager oder Unternehmensberater weiter. \n\n  teilen teilen teilen teilen  teilen E-Mail 
URL:https://rheintal-interim.org/veranstaltung/vrim-extern-jubilaeumsveranstaltung-10-jahre-vrim/
LOCATION:Firmament\, Römergrund 1\, Rankweil\, Vorarlberg\, 6830\, Österreich
CATEGORIES:VRIM Event
END:VEVENT
END:VCALENDAR