BEGIN:VCALENDAR
VERSION:2.0
PRODID:-//VRIM Verband Rheintaler Interim Manager - ECPv6.15.20//NONSGML v1.0//EN
CALSCALE:GREGORIAN
METHOD:PUBLISH
X-WR-CALNAME:VRIM Verband Rheintaler Interim Manager
X-ORIGINAL-URL:https://rheintal-interim.org
X-WR-CALDESC:Veranstaltungen für VRIM Verband Rheintaler Interim Manager
REFRESH-INTERVAL;VALUE=DURATION:PT1H
X-Robots-Tag:noindex
X-PUBLISHED-TTL:PT1H
BEGIN:VTIMEZONE
TZID:Europe/Vaduz
BEGIN:DAYLIGHT
TZOFFSETFROM:+0100
TZOFFSETTO:+0200
TZNAME:CEST
DTSTART:20220327T010000
END:DAYLIGHT
BEGIN:STANDARD
TZOFFSETFROM:+0200
TZOFFSETTO:+0100
TZNAME:CET
DTSTART:20221030T010000
END:STANDARD
BEGIN:DAYLIGHT
TZOFFSETFROM:+0100
TZOFFSETTO:+0200
TZNAME:CEST
DTSTART:20230326T010000
END:DAYLIGHT
BEGIN:STANDARD
TZOFFSETFROM:+0200
TZOFFSETTO:+0100
TZNAME:CET
DTSTART:20231029T010000
END:STANDARD
BEGIN:DAYLIGHT
TZOFFSETFROM:+0100
TZOFFSETTO:+0200
TZNAME:CEST
DTSTART:20240331T010000
END:DAYLIGHT
BEGIN:STANDARD
TZOFFSETFROM:+0200
TZOFFSETTO:+0100
TZNAME:CET
DTSTART:20241027T010000
END:STANDARD
END:VTIMEZONE
BEGIN:VEVENT
DTSTART;TZID=Europe/Vaduz:20231025T133000
DTEND;TZID=Europe/Vaduz:20231025T193000
DTSTAMP:20260426T040525
CREATED:20230213T100016Z
LAST-MODIFIED:20230213T100016Z
UID:4406-1698240600-1698262200@rheintal-interim.org
SUMMARY:Unternehmertag Liechtenstein 2023 – "Offensiv in die Zukunft"
DESCRIPTION:Unternehmertag Liechtenstein 2023 widmet sich dem Thema «Offensiv in die Zukunft». \n\n\n\n\n\n\n\n\nDie 18. Ausgabe des Unternehmertags findet am Mittwoch\, 25.Oktober 2023 ab 13.30 Uhr\, in der Spoerry-Halle in Vaduz statt und widmet sich dem Thema «Offensiv in die Zukunft». \nWir freuen uns auf hochkarätige Speakerinnen und Speaker aus Politik\, Wirtschaft und Wissenschaft wie Liechtensteins Wirtschaftsministerin Sabine Monauni\, Jan Doongaji – CEO Hilti Group\, Patrick Spieldiener – CEO Intamin Group  und Aymo Brunetti – Professor für Volkswirtschaftslehre. Das finale Programm folgt in Kürze. Der Unternehmertag vernetzt jeweils mehrere hundert Entscheidungsträger\, Unternehmer und Wirtschaftsinteressierte aus dem Vierländereck und bietet interessante Referate und Talks sowie attraktive Networking-Möglichkeiten. \n\n\n\n\n\n\nWir freuen uns auf Ihre Teilnahme am Unternehmertag am 25.Oktober 2023 in Vaduz! \nSeit Jahren ist der VRIM Kooperationspartner des Unternehmertages.\nOrdentliche Mitglieder des VRIM erhalten bevorzugte Ticketpreise. Hier Mitglied werden. \nwww.unternehmertag.li \n  \nteilen teilen teilen teilen  teilen E-Mail 
URL:https://rheintal-interim.org/veranstaltung/unternehmertag-liechtenstein-2023-offensiv-in-die-zukunft/
LOCATION:Spörry-Halle\, Rüfestrasse 6\, Vaduz\, 9490\, Liechtenstein
CATEGORIES:Event - VRIM als Partner
END:VEVENT
END:VCALENDAR