BEGIN:VCALENDAR
VERSION:2.0
PRODID:-//VRIM Verband Rheintaler Interim Manager - ECPv6.15.20//NONSGML v1.0//EN
CALSCALE:GREGORIAN
METHOD:PUBLISH
X-WR-CALNAME:VRIM Verband Rheintaler Interim Manager
X-ORIGINAL-URL:https://rheintal-interim.org
X-WR-CALDESC:Veranstaltungen für VRIM Verband Rheintaler Interim Manager
REFRESH-INTERVAL;VALUE=DURATION:PT1H
X-Robots-Tag:noindex
X-PUBLISHED-TTL:PT1H
BEGIN:VTIMEZONE
TZID:Europe/London
BEGIN:DAYLIGHT
TZOFFSETFROM:+0000
TZOFFSETTO:+0100
TZNAME:BST
DTSTART:20220327T010000
END:DAYLIGHT
BEGIN:STANDARD
TZOFFSETFROM:+0100
TZOFFSETTO:+0000
TZNAME:GMT
DTSTART:20221030T010000
END:STANDARD
BEGIN:DAYLIGHT
TZOFFSETFROM:+0000
TZOFFSETTO:+0100
TZNAME:BST
DTSTART:20230326T010000
END:DAYLIGHT
BEGIN:STANDARD
TZOFFSETFROM:+0100
TZOFFSETTO:+0000
TZNAME:GMT
DTSTART:20231029T010000
END:STANDARD
BEGIN:DAYLIGHT
TZOFFSETFROM:+0000
TZOFFSETTO:+0100
TZNAME:BST
DTSTART:20240331T010000
END:DAYLIGHT
BEGIN:STANDARD
TZOFFSETFROM:+0100
TZOFFSETTO:+0000
TZNAME:GMT
DTSTART:20241027T010000
END:STANDARD
END:VTIMEZONE
BEGIN:VEVENT
DTSTART;TZID=Europe/London:20231129T120000
DTEND;TZID=Europe/London:20231129T130000
DTSTAMP:20260426T015512
CREATED:20230413T074823Z
LAST-MODIFIED:20230413T074823Z
UID:4520-1701259200-1701262800@rheintal-interim.org
SUMMARY:IIM Webinar: An Introduction to the Interim Profession - 29.11.2023
DESCRIPTION:An Introduction to the Interim Profession\n\n\nAbout this Event:\n\n\n\n\nThe IIM is aware that an increasing number of executives are considering a career transition from the world of permanent employment to being in business on their own account. Beyond this\, many are considering this approach by looking to build a career in the interim profession. \nThis is rarely done as a ‘snap’ decision. It is our experience that people take their time to consider the pros and cons\, including the basics of how to find work\, how much income is ‘enough’\, how am I going to position myself\, how do I operate and so on. \nObtaining the answers to these and a range of other ‘hard’ questions brings a sense of reality to the thought process which balances some of the perhaps more romantic notions implied in ‘being your own boss’. Having a well thought-through approach brings a sense of how to make the transition work. \nBuilding on this is the need to decide whether the individual can translate a successful ‘corporate’ career into a productive one as an interim practitioner\, where you stand or fall on your own efforts. This does not suit everyone\, and it is sensible to learn as much as you can before making a final full commitment to the career change. \nAs part of its remit to educate about the profession\, the IIM is running a webinar that introduces people to the main themes that need addressing when considering this career transition. \n\n\n\nEvent Type: IIM Webinar\nRegister: IIM Institute of Interim Management\nPrice: £ 00.00\n\nteilen teilen teilen teilen  teilen E-Mail 
URL:https://rheintal-interim.org/veranstaltung/iim-webinar-an-introduction-to-the-interim-profession-29-11-2023/
LOCATION:Virtuell
CATEGORIES:IIM Webinar
END:VEVENT
END:VCALENDAR