BEGIN:VCALENDAR
VERSION:2.0
PRODID:-//VRIM Verband Rheintaler Interim Manager - ECPv6.15.20//NONSGML v1.0//EN
CALSCALE:GREGORIAN
METHOD:PUBLISH
X-WR-CALNAME:VRIM Verband Rheintaler Interim Manager
X-ORIGINAL-URL:https://rheintal-interim.org
X-WR-CALDESC:Veranstaltungen für VRIM Verband Rheintaler Interim Manager
REFRESH-INTERVAL;VALUE=DURATION:PT1H
X-Robots-Tag:noindex
X-PUBLISHED-TTL:PT1H
BEGIN:VTIMEZONE
TZID:Europe/Vaduz
BEGIN:DAYLIGHT
TZOFFSETFROM:+0100
TZOFFSETTO:+0200
TZNAME:CEST
DTSTART:20230326T010000
END:DAYLIGHT
BEGIN:STANDARD
TZOFFSETFROM:+0200
TZOFFSETTO:+0100
TZNAME:CET
DTSTART:20231029T010000
END:STANDARD
BEGIN:DAYLIGHT
TZOFFSETFROM:+0100
TZOFFSETTO:+0200
TZNAME:CEST
DTSTART:20240331T010000
END:DAYLIGHT
BEGIN:STANDARD
TZOFFSETFROM:+0200
TZOFFSETTO:+0100
TZNAME:CET
DTSTART:20241027T010000
END:STANDARD
BEGIN:DAYLIGHT
TZOFFSETFROM:+0100
TZOFFSETTO:+0200
TZNAME:CEST
DTSTART:20250330T010000
END:DAYLIGHT
BEGIN:STANDARD
TZOFFSETFROM:+0200
TZOFFSETTO:+0100
TZNAME:CET
DTSTART:20251026T010000
END:STANDARD
END:VTIMEZONE
BEGIN:VEVENT
DTSTART;TZID=Europe/Vaduz:20240315T180000
DTEND;TZID=Europe/Vaduz:20240315T210000
DTSTAMP:20260425T231636
CREATED:20231220T151950Z
LAST-MODIFIED:20240213T100137Z
UID:4949-1710525600-1710536400@rheintal-interim.org
SUMMARY:VRIM Mitgliederversammlung 2024
DESCRIPTION:Die diesjährige VRIM Mitgliederversammlung findet dieses Jahr „real“ statt. \nSie findet im Hotel Schwärzler\, Landstrasse 9\, 6900 Bregenz\, Tel: +43 5574 4990 statt. \nNach der Mitgliederversammlung besteht die Möglichkeit des gemeinsamen Abendessens. \n  \nteilen teilen teilen teilen  teilen E-Mail 
URL:https://rheintal-interim.org/veranstaltung/vrim-mitgliederversammlung-2024/
LOCATION:Hotel Schwärzler\, Landstrasse 9\, Bregenz\, Vorarlberg\, 6900\, Österreich
CATEGORIES:VRIM Inside
END:VEVENT
END:VCALENDAR