BEGIN:VCALENDAR
VERSION:2.0
PRODID:-//VRIM Verband Rheintaler Interim Manager - ECPv6.15.20//NONSGML v1.0//EN
CALSCALE:GREGORIAN
METHOD:PUBLISH
X-WR-CALNAME:VRIM Verband Rheintaler Interim Manager
X-ORIGINAL-URL:https://rheintal-interim.org
X-WR-CALDESC:Veranstaltungen für VRIM Verband Rheintaler Interim Manager
REFRESH-INTERVAL;VALUE=DURATION:PT1H
X-Robots-Tag:noindex
X-PUBLISHED-TTL:PT1H
BEGIN:VTIMEZONE
TZID:Europe/Vaduz
BEGIN:DAYLIGHT
TZOFFSETFROM:+0100
TZOFFSETTO:+0200
TZNAME:CEST
DTSTART:20230326T010000
END:DAYLIGHT
BEGIN:STANDARD
TZOFFSETFROM:+0200
TZOFFSETTO:+0100
TZNAME:CET
DTSTART:20231029T010000
END:STANDARD
BEGIN:DAYLIGHT
TZOFFSETFROM:+0100
TZOFFSETTO:+0200
TZNAME:CEST
DTSTART:20240331T010000
END:DAYLIGHT
BEGIN:STANDARD
TZOFFSETFROM:+0200
TZOFFSETTO:+0100
TZNAME:CET
DTSTART:20241027T010000
END:STANDARD
BEGIN:DAYLIGHT
TZOFFSETFROM:+0100
TZOFFSETTO:+0200
TZNAME:CEST
DTSTART:20250330T010000
END:DAYLIGHT
BEGIN:STANDARD
TZOFFSETFROM:+0200
TZOFFSETTO:+0100
TZNAME:CET
DTSTART:20251026T010000
END:STANDARD
END:VTIMEZONE
BEGIN:VEVENT
DTSTART;TZID=Europe/Vaduz:20240709T180000
DTEND;TZID=Europe/Vaduz:20240709T210000
DTSTAMP:20260423T165522
CREATED:20240212T154638Z
LAST-MODIFIED:20240212T155058Z
UID:4970-1720548000-1720558800@rheintal-interim.org
SUMMARY:VRIM Inside – Speed Dating 1 (virtuell)
DESCRIPTION:Liebe Verbandskollegin\, lieber Verbandskollege \nNach den erfolgreichen Anlässen der letzten zwei Jahre und dem durchwegs positiven Feedback der Teilnehmer möchte ich dich gerne zum nächsten VRIM Anlass „Speed Dating“ am Dienstag\, 09. Juli 2024\, 18 – 21 h via ZOOM (Einlass ab 17.45 h) einladen. \nWas ist „Speed Dating“ im Interim Management? \nAkquisition ist eine der Aufgaben\, die jeder Interim Manager regelmässig machen muss. Einer der möglichen Akquisitions-Kanäle sind die Kolleginnen und Kollegen im Verband. Allerdings kann ich nur jemanden vermitteln\, wenn ich mein Gegenüber gut kenne. Das Speed Dating soll die Möglichkeit bieten\, in ein paar wenigen Minuten – analog einem „Elevator Pitch“ alles über meine Person zu sagen. \nWie läuft das „Speed Dating“ ab? \nWir werden in ZOOM Gruppenräume bereitstellen\, in welchem zwei Mitglieder sich ein paar Minuten unterhalten können. Nach etwa 15 Minuten wird in einen anderen digitalen Raum gewechselt. So haben alle Teilnehmer die Möglichkeit\, andere Mitglieder\, die sie nicht kennen\, besser kennenzulernen. Jeder kann dabei seine Gesprächspartner selber aussuchen. \nEinladung an VRIM\, DSIM\, DDIM und DÖIM \nDieses Mal werden auch die Kolleginnen und Kollegen in unseren Partnerverbänden dazu eingeladen. Die Anzahl der Teilnehmer ist jedoch auf 20 begrenzt (first come first serve). Die Anmeldung kann über unsere Website unter Anmeldung erfolgen. \nAlle Teilnehmer erhalten einen Tag vor dem Anlass den Link in unsere ZOOM Meeting Räume. \nDas Feedback der vergangenen Veranstaltungen war überaus positiv. Der Vorstand ist überzeugt den Mitgliedern wiederum eine Möglichkeit zu bieten\, um über einen weiteren Kanal zu Aufträgen zu kommen. Falls du einen Gast einladen willst\, darfst du diese Einladung gerne weiterleiten. \nIch freue mich auf diesen interessanten Anlass und bin jetzt schon sehr gespannt. Bitte bleibe gesund. \nHerzliche Grüsse\nJens Amann\, VRIM Vize-Präsident\, Aktuar \n  \nteilen teilen teilen teilen  teilen E-Mail 
URL:https://rheintal-interim.org/veranstaltung/vrim-inside-speed-dating-1/
LOCATION:Virtuell
CATEGORIES:VRIM Inside
END:VEVENT
END:VCALENDAR