BEGIN:VCALENDAR
VERSION:2.0
PRODID:-//VRIM Verband Rheintaler Interim Manager - ECPv6.15.20//NONSGML v1.0//EN
CALSCALE:GREGORIAN
METHOD:PUBLISH
X-WR-CALNAME:VRIM Verband Rheintaler Interim Manager
X-ORIGINAL-URL:https://rheintal-interim.org
X-WR-CALDESC:Veranstaltungen für VRIM Verband Rheintaler Interim Manager
REFRESH-INTERVAL;VALUE=DURATION:PT1H
X-Robots-Tag:noindex
X-PUBLISHED-TTL:PT1H
BEGIN:VTIMEZONE
TZID:Europe/Vaduz
BEGIN:DAYLIGHT
TZOFFSETFROM:+0100
TZOFFSETTO:+0200
TZNAME:CEST
DTSTART:20230326T010000
END:DAYLIGHT
BEGIN:STANDARD
TZOFFSETFROM:+0200
TZOFFSETTO:+0100
TZNAME:CET
DTSTART:20231029T010000
END:STANDARD
BEGIN:DAYLIGHT
TZOFFSETFROM:+0100
TZOFFSETTO:+0200
TZNAME:CEST
DTSTART:20240331T010000
END:DAYLIGHT
BEGIN:STANDARD
TZOFFSETFROM:+0200
TZOFFSETTO:+0100
TZNAME:CET
DTSTART:20241027T010000
END:STANDARD
BEGIN:DAYLIGHT
TZOFFSETFROM:+0100
TZOFFSETTO:+0200
TZNAME:CEST
DTSTART:20250330T010000
END:DAYLIGHT
BEGIN:STANDARD
TZOFFSETFROM:+0200
TZOFFSETTO:+0100
TZNAME:CET
DTSTART:20251026T010000
END:STANDARD
END:VTIMEZONE
BEGIN:VEVENT
DTSTART;TZID=Europe/Vaduz:20240912T133000
DTEND;TZID=Europe/Vaduz:20240912T193000
DTSTAMP:20260423T141453
CREATED:20240514T114517Z
LAST-MODIFIED:20240514T114517Z
UID:5089-1726147800-1726169400@rheintal-interim.org
SUMMARY:Unternehmertag Liechtenstein 2024 – "Wege zum Erfolg"
DESCRIPTION:Unternehmertag Liechtenstein 2024 widmet sich dem Thema «Wege zum Erfolg». \n\n\n\n\n\n\n\n\nDie 19. Ausgabe des Unternehmertags findet am Donnerstag\, 12. September 2024 ab 13.30 Uhr\, in der Spoerry-Halle in Vaduz statt und widmet sich dem Thema «Wege zum Erfolg». \nWir freuen uns auf hochkarätige Speakerinnen und Speaker aus Politik\, Wirtschaft und Wissenschaft wie Liechtensteins Wirtschaftsministerin Sabine Monauni\, Suzanne Thoma – CEO und Verwaltungsratspräsidentin von Sulzer\, Marcel Fratscher\, Ökonom und Präsident des Deutschen Instituts für Wirtschaftsforschung\, Marco Weishaupt\, Gründer und Verwaltungsratspräsident von b_smart selection. \nDas finale Programm folgt in Kürze. Der Unternehmertag vernetzt jeweils mehrere hundert Entscheidungsträger\, Unternehmer und Wirtschaftsinteressierte aus dem Vierländereck und bietet interessante Referate und Talks sowie attraktive Networking-Möglichkeiten. \n\n\n\n\n\n\nWir freuen uns auf Ihre Teilnahme am Unternehmertag am 12.September 2024 in Vaduz! \nSeit Jahren ist der VRIM Kooperationspartner des Unternehmertages.\nOrdentliche Mitglieder des VRIM erhalten bevorzugte Ticketpreise. Hier Mitglied werden. \nAnmeldung für Mitglieder unter nachfolgendem Link mit Vermerk „Mitglied VRIM“ und der Rechnungsadresse: \nVRIM Verband Rheintaler Interim Manager\nPostfach 758\nLI-9494 Schaan \nAnmeldung | Unternehmertag 2024 \n  \nteilen teilen teilen teilen  teilen E-Mail 
URL:https://rheintal-interim.org/veranstaltung/unternehmertag-liechtenstein-2024-wege-zum-erfolg/
LOCATION:Spörry-Halle\, Rüfestrasse 6\, Vaduz\, 9490\, Liechtenstein
CATEGORIES:Event - VRIM als Partner
END:VEVENT
END:VCALENDAR