BEGIN:VCALENDAR
VERSION:2.0
PRODID:-//VRIM Verband Rheintaler Interim Manager - ECPv6.15.20//NONSGML v1.0//EN
CALSCALE:GREGORIAN
METHOD:PUBLISH
X-WR-CALNAME:VRIM Verband Rheintaler Interim Manager
X-ORIGINAL-URL:https://rheintal-interim.org
X-WR-CALDESC:Veranstaltungen für VRIM Verband Rheintaler Interim Manager
REFRESH-INTERVAL;VALUE=DURATION:PT1H
X-Robots-Tag:noindex
X-PUBLISHED-TTL:PT1H
BEGIN:VTIMEZONE
TZID:Europe/Vaduz
BEGIN:DAYLIGHT
TZOFFSETFROM:+0100
TZOFFSETTO:+0200
TZNAME:CEST
DTSTART:20230326T010000
END:DAYLIGHT
BEGIN:STANDARD
TZOFFSETFROM:+0200
TZOFFSETTO:+0100
TZNAME:CET
DTSTART:20231029T010000
END:STANDARD
BEGIN:DAYLIGHT
TZOFFSETFROM:+0100
TZOFFSETTO:+0200
TZNAME:CEST
DTSTART:20240331T010000
END:DAYLIGHT
BEGIN:STANDARD
TZOFFSETFROM:+0200
TZOFFSETTO:+0100
TZNAME:CET
DTSTART:20241027T010000
END:STANDARD
BEGIN:DAYLIGHT
TZOFFSETFROM:+0100
TZOFFSETTO:+0200
TZNAME:CEST
DTSTART:20250330T010000
END:DAYLIGHT
BEGIN:STANDARD
TZOFFSETFROM:+0200
TZOFFSETTO:+0100
TZNAME:CET
DTSTART:20251026T010000
END:STANDARD
END:VTIMEZONE
BEGIN:VEVENT
DTSTART;TZID=Europe/Vaduz:20240927T130000
DTEND;TZID=Europe/Vaduz:20240927T160000
DTSTAMP:20260423T141457
CREATED:20240607T120443Z
LAST-MODIFIED:20240607T120443Z
UID:5167-1727442000-1727452800@rheintal-interim.org
SUMMARY:VRIM-Inside plus  – Firmenbesuch "Mall Herlan GmbH"
DESCRIPTION:Agenda:\n13:00h Start\n– kurze Firmenpräsentation und Vorstellung des Unternehmen.\n– Rundgang durch die Produktion zur Herstellung von Stahldosen\n– Fragerunde und Diskussion\nca. 16:00 Ende der Veranstaltung \nAnmeldung für Gäste und Mitglieder nur namentlich möglich! \nteilen teilen teilen teilen  teilen E-Mail 
URL:https://rheintal-interim.org/veranstaltung/vrim-inside-plus-firmenbesuch-mall-herlan-gmbh/
LOCATION:Mall Herlan GmbH\, take-off GewerbePark 143\, Neuhausen ob Eck\, 78579\, Deutschland
CATEGORIES:VRIM Inside
END:VEVENT
END:VCALENDAR