BEGIN:VCALENDAR
VERSION:2.0
PRODID:-//VRIM Verband Rheintaler Interim Manager - ECPv6.15.20//NONSGML v1.0//EN
CALSCALE:GREGORIAN
METHOD:PUBLISH
X-ORIGINAL-URL:https://rheintal-interim.org
X-WR-CALDESC:Veranstaltungen für VRIM Verband Rheintaler Interim Manager
REFRESH-INTERVAL;VALUE=DURATION:PT1H
X-Robots-Tag:noindex
X-PUBLISHED-TTL:PT1H
BEGIN:VTIMEZONE
TZID:Europe/Vaduz
BEGIN:DAYLIGHT
TZOFFSETFROM:+0100
TZOFFSETTO:+0200
TZNAME:CEST
DTSTART:20240331T010000
END:DAYLIGHT
BEGIN:STANDARD
TZOFFSETFROM:+0200
TZOFFSETTO:+0100
TZNAME:CET
DTSTART:20241027T010000
END:STANDARD
BEGIN:DAYLIGHT
TZOFFSETFROM:+0100
TZOFFSETTO:+0200
TZNAME:CEST
DTSTART:20250330T010000
END:DAYLIGHT
BEGIN:STANDARD
TZOFFSETFROM:+0200
TZOFFSETTO:+0100
TZNAME:CET
DTSTART:20251026T010000
END:STANDARD
BEGIN:DAYLIGHT
TZOFFSETFROM:+0100
TZOFFSETTO:+0200
TZNAME:CEST
DTSTART:20260329T010000
END:DAYLIGHT
BEGIN:STANDARD
TZOFFSETFROM:+0200
TZOFFSETTO:+0100
TZNAME:CET
DTSTART:20261025T010000
END:STANDARD
END:VTIMEZONE
BEGIN:VEVENT
DTSTART;VALUE=DATE:20250228
DTEND;VALUE=DATE:20250302
DTSTAMP:20260421T183437
CREATED:20241118T144141Z
LAST-MODIFIED:20250108T125659Z
UID:5320-1740700800-1740873599@rheintal-interim.org
SUMMARY:10. KIM – Konferenz für Interim Management in Salzburg am 1. März 2025
DESCRIPTION:Motto: „Nur die Besten“\nEs geht darum\, die Interim ManagerInnen in den Mittelpunkt zu stellen. Sie sind die wichtigsten Akteure im Interim Management und setzen tolle und herausfordernde Projekte erfolgreich um\, es geht um Sie! \nOnline Anmeldung und weitere Informationen auf der Webseite des DöIM:\nKIM 2025 – DÖIM \n  \nteilen teilen teilen teilen  teilen E-Mail 
URL:https://rheintal-interim.org/veranstaltung/10-kim-konferenz-fuer-interim-management-in-salzburg-am-1-maerz-2025/
LOCATION:IMLAUER HOTEL PITTER Salzburg\, Rainerstraße 6-8\, Salzburg\, 5020\, Österreich
CATEGORIES:DÖIM Event
END:VEVENT
END:VCALENDAR