BEGIN:VCALENDAR
VERSION:2.0
PRODID:-//VRIM Verband Rheintaler Interim Manager - ECPv6.15.20//NONSGML v1.0//EN
CALSCALE:GREGORIAN
METHOD:PUBLISH
X-ORIGINAL-URL:https://rheintal-interim.org
X-WR-CALDESC:Veranstaltungen für VRIM Verband Rheintaler Interim Manager
REFRESH-INTERVAL;VALUE=DURATION:PT1H
X-Robots-Tag:noindex
X-PUBLISHED-TTL:PT1H
BEGIN:VTIMEZONE
TZID:Europe/Vaduz
BEGIN:DAYLIGHT
TZOFFSETFROM:+0100
TZOFFSETTO:+0200
TZNAME:CEST
DTSTART:20240331T010000
END:DAYLIGHT
BEGIN:STANDARD
TZOFFSETFROM:+0200
TZOFFSETTO:+0100
TZNAME:CET
DTSTART:20241027T010000
END:STANDARD
BEGIN:DAYLIGHT
TZOFFSETFROM:+0100
TZOFFSETTO:+0200
TZNAME:CEST
DTSTART:20250330T010000
END:DAYLIGHT
BEGIN:STANDARD
TZOFFSETFROM:+0200
TZOFFSETTO:+0100
TZNAME:CET
DTSTART:20251026T010000
END:STANDARD
BEGIN:DAYLIGHT
TZOFFSETFROM:+0100
TZOFFSETTO:+0200
TZNAME:CEST
DTSTART:20260329T010000
END:DAYLIGHT
BEGIN:STANDARD
TZOFFSETFROM:+0200
TZOFFSETTO:+0100
TZNAME:CET
DTSTART:20261025T010000
END:STANDARD
END:VTIMEZONE
BEGIN:VEVENT
DTSTART;TZID=Europe/Vaduz:20250408T180000
DTEND;TZID=Europe/Vaduz:20250408T210000
DTSTAMP:20260421T171518
CREATED:20250210T084556Z
LAST-MODIFIED:20250211T092120Z
UID:5399-1744135200-1744146000@rheintal-interim.org
SUMMARY:VRIM Inside – Speed Dating 1/2025 (virtuell)
DESCRIPTION:Was ist „Speed Dating“ im Interim Management?\nAkquisition ist eine der Aufgaben\, die jeder Interim Manager regelmässig machen muss. Einer der möglichen Akquisitions-Kanäle sind die Kolleginnen und Kollegen im VRIM. Allerdings kann man nur jemanden vermitteln\, wenn man seinen Partner gut kenne. Das Speed Dating soll die Möglichkeit bieten\, in ein paar wenigen Minuten\, analog einem „Elevator Pitch“ alles über eine Person zu sagen. \nWie läuft das „Speed Dating“ ab? \nWir werden in ZOOM Gruppenräume bereitstellen\, in welchem zwei Mitglieder sich ein paar Minuten unterhalten können. Nach etwa 15 Minuten wird in einen anderen digitalen Raum gewechselt. So haben alle Teilnehmer die Möglichkeit\, andere Mitglieder\, die sie nicht kennen\, besser kennenzulernen. Jeder kann dabei seine Gesprächspartner selber aussuchen. \nEinladungslink ZOOM: Einlass 08.04.2025 ab 17:45h\nhttps://us06web.zoom.us/j/81989319756?pwd=WFRLMzB1CEDQGczy0nBNqBtda0FjQV.1 \nteilen teilen teilen teilen  teilen E-Mail 
URL:https://rheintal-interim.org/veranstaltung/vrim-inside-speed-dating-1-2025-virtuell/
LOCATION:Virtuell
CATEGORIES:VRIM Inside
END:VEVENT
END:VCALENDAR