BEGIN:VCALENDAR
VERSION:2.0
PRODID:-//VRIM Verband Rheintaler Interim Manager - ECPv6.15.20//NONSGML v1.0//EN
CALSCALE:GREGORIAN
METHOD:PUBLISH
X-ORIGINAL-URL:https://rheintal-interim.org
X-WR-CALDESC:Veranstaltungen für VRIM Verband Rheintaler Interim Manager
REFRESH-INTERVAL;VALUE=DURATION:PT1H
X-Robots-Tag:noindex
X-PUBLISHED-TTL:PT1H
BEGIN:VTIMEZONE
TZID:Europe/Vaduz
BEGIN:DAYLIGHT
TZOFFSETFROM:+0100
TZOFFSETTO:+0200
TZNAME:CEST
DTSTART:20240331T010000
END:DAYLIGHT
BEGIN:STANDARD
TZOFFSETFROM:+0200
TZOFFSETTO:+0100
TZNAME:CET
DTSTART:20241027T010000
END:STANDARD
BEGIN:DAYLIGHT
TZOFFSETFROM:+0100
TZOFFSETTO:+0200
TZNAME:CEST
DTSTART:20250330T010000
END:DAYLIGHT
BEGIN:STANDARD
TZOFFSETFROM:+0200
TZOFFSETTO:+0100
TZNAME:CET
DTSTART:20251026T010000
END:STANDARD
BEGIN:DAYLIGHT
TZOFFSETFROM:+0100
TZOFFSETTO:+0200
TZNAME:CEST
DTSTART:20260329T010000
END:DAYLIGHT
BEGIN:STANDARD
TZOFFSETFROM:+0200
TZOFFSETTO:+0100
TZNAME:CET
DTSTART:20261025T010000
END:STANDARD
END:VTIMEZONE
BEGIN:VEVENT
DTSTART;TZID=Europe/Vaduz:20251021T190000
DTEND;TZID=Europe/Vaduz:20251021T203000
DTSTAMP:20260421T111046
CREATED:20251003T082544Z
LAST-MODIFIED:20251014T063959Z
UID:5557-1761073200-1761078600@rheintal-interim.org
SUMMARY:VRIM-Inside  – "Generative KI in Unternehmen: Vom Buzzword zur Wertschöpfung" - 21. Oktober 2025
DESCRIPTION:Generative KI verändert die Spielregeln. Doch viele Unternehmen verharren in der Pilotphase. Der Vortrag zeigt\, wie der Mittelstand echte Wertschöpfung erzielt – mit klarer Strategie\, messbarer Produktivität und nachhaltiger Verankerung im Unternehmen. \nProfile: \nMalik Naveed Akram ist Geschäftsführer der Intech Automation & Intelligence GmbH in München. Er begleitet Industrieunternehmen bei der Einführung von Generativer KI – von der Strategie bis zur Umsetzung. Zuvor war er selbst langjährig im Mittelstand tätig und kennt die Herausforderungen aus erster Hand. \nDer Vortrag wird per „Zoom“ stattfinden. Unter folgendem Code kann teilgenommen werden: \nhttps://us06web.zoom.us/j/82515914321?pwd=JmM4olaPqKQbLb3X7QtbDPbG7W3LLj.1 \nDie Dauer des Vortrags mit Q&A beträgt ca. 1-1.5h \nAnmeldung für Gäste und Mitglieder wird erwünscht. \n  \nteilen teilen teilen teilen  teilen E-Mail 
URL:https://rheintal-interim.org/veranstaltung/vrim-inside-generative-ki-in-unternehmen-vom-buzzword-zur-wertschoepfung-21-oktober-2025/
LOCATION:Virtuell
CATEGORIES:VRIM Inside
END:VEVENT
END:VCALENDAR