BEGIN:VCALENDAR
VERSION:2.0
PRODID:-//VRIM Verband Rheintaler Interim Manager - ECPv6.15.20//NONSGML v1.0//EN
CALSCALE:GREGORIAN
METHOD:PUBLISH
X-ORIGINAL-URL:https://rheintal-interim.org
X-WR-CALDESC:Veranstaltungen für VRIM Verband Rheintaler Interim Manager
REFRESH-INTERVAL;VALUE=DURATION:PT1H
X-Robots-Tag:noindex
X-PUBLISHED-TTL:PT1H
BEGIN:VTIMEZONE
TZID:Europe/Vaduz
BEGIN:DAYLIGHT
TZOFFSETFROM:+0100
TZOFFSETTO:+0200
TZNAME:CEST
DTSTART:20220327T010000
END:DAYLIGHT
BEGIN:STANDARD
TZOFFSETFROM:+0200
TZOFFSETTO:+0100
TZNAME:CET
DTSTART:20221030T010000
END:STANDARD
BEGIN:DAYLIGHT
TZOFFSETFROM:+0100
TZOFFSETTO:+0200
TZNAME:CEST
DTSTART:20230326T010000
END:DAYLIGHT
BEGIN:STANDARD
TZOFFSETFROM:+0200
TZOFFSETTO:+0100
TZNAME:CET
DTSTART:20231029T010000
END:STANDARD
BEGIN:DAYLIGHT
TZOFFSETFROM:+0100
TZOFFSETTO:+0200
TZNAME:CEST
DTSTART:20240331T010000
END:DAYLIGHT
BEGIN:STANDARD
TZOFFSETFROM:+0200
TZOFFSETTO:+0100
TZNAME:CET
DTSTART:20241027T010000
END:STANDARD
END:VTIMEZONE
BEGIN:VTIMEZONE
TZID:Europe/London
BEGIN:DAYLIGHT
TZOFFSETFROM:+0000
TZOFFSETTO:+0100
TZNAME:BST
DTSTART:20220327T010000
END:DAYLIGHT
BEGIN:STANDARD
TZOFFSETFROM:+0100
TZOFFSETTO:+0000
TZNAME:GMT
DTSTART:20221030T010000
END:STANDARD
BEGIN:DAYLIGHT
TZOFFSETFROM:+0000
TZOFFSETTO:+0100
TZNAME:BST
DTSTART:20230326T010000
END:DAYLIGHT
BEGIN:STANDARD
TZOFFSETFROM:+0100
TZOFFSETTO:+0000
TZNAME:GMT
DTSTART:20231029T010000
END:STANDARD
BEGIN:DAYLIGHT
TZOFFSETFROM:+0000
TZOFFSETTO:+0100
TZNAME:BST
DTSTART:20240331T010000
END:DAYLIGHT
BEGIN:STANDARD
TZOFFSETFROM:+0100
TZOFFSETTO:+0000
TZNAME:GMT
DTSTART:20241027T010000
END:STANDARD
END:VTIMEZONE
BEGIN:VEVENT
DTSTART;TZID=Europe/Vaduz:20231204T180000
DTEND;TZID=Europe/Vaduz:20231204T210000
DTSTAMP:20260426T004022
CREATED:20221213T094852Z
LAST-MODIFIED:20221213T100148Z
UID:4258-1701712800-1701723600@rheintal-interim.org
SUMMARY:VRIM Stammtisch (jeden ersten Montag im Monat)
DESCRIPTION:Auf Anregung der VRIM Mitglieder anlässlich der Mitgliederversammlung 2022 wird der VRIM Stammtisch ins Leben gerufen. Er findet jeden ersten Montag im Monat statt. \nIm VRIM Stammtisch können sich Mitglieder und Gäste über Themen wie Erfahrungen in Mandaten\, bei Interviews oder während der Akquisition austauschen. Melden Sie sich über den folgenden Link an. Die Teilnahme ist kostenlos. \nhttps://us06web.zoom.us/j/88191992333?pwd=ZUQraURUVHZCSEFVT3RKVUpadjlIUT09 \nteilen teilen teilen teilen  teilen E-Mail 
URL:https://rheintal-interim.org/veranstaltung/vrim-stammtisch-jeden-ersten-montag-im-monat-20/
LOCATION:Virtuell
CATEGORIES:VRIM Inside
END:VEVENT
BEGIN:VEVENT
DTSTART;TZID=Europe/London:20231206T120000
DTEND;TZID=Europe/London:20231206T130000
DTSTAMP:20260426T004022
CREATED:20230413T075133Z
LAST-MODIFIED:20230413T075228Z
UID:4522-1701864000-1701867600@rheintal-interim.org
SUMMARY:IIM Webinar: Achieving sustainable assignment acquisition success as an interim professional - 06.12.2023
DESCRIPTION:Achieving sustainable assignment acquisition success as an interim professional\n\n\nAbout this Event:\n\n\n\n\nWho’d have predicted the seismic changes witnessed across the globe resulting from the global pandemic? Yet\, rather like the financial crisis of 2008-09 interim practitioners have shown great resilience. IR35 still brings complexity and a continued need for education and clarity but overall\, the profession is in a strong position to make good of the opportunities ahead. \nThe IIM\, as the voice of the interim profession\, are acutely aware of both the shifting sands in the marketplace and the varied thoughts\, considerations and needs of the membership to thrive rather than survive through these times. \nTo meet this membership need\, the IIM has found in Morphosis Partners\, a business who has a reputation in enabling interim professionals to thrive especially in interim brand development through achieving sustainable assignment acquisition success. \nThe IIM invite you to attend this FREE webinar which will provide you with the opportunity to:- \n\nFrame and present your questions in an open and engaging Q&A format where you will be able to gain knowledge clarity and readily applicable practical direction on the questions you have\nBe part of a group of like-minded interim practitioners able to gain value from the insights and questions others raise\, further adding to your takeaways\nActively connect and network with other like-minded interim practitioners whom you may not have known about or had access to previously\nGain an understanding of the Morphosis Partner seminar series developed in partnership with the IIM\n\n\n\n\nEvent Type: IIM Webinar\nRegister: IIM Institute of Interim Management\nPrice: £ 00.00\n\nteilen teilen teilen teilen  teilen E-Mail 
URL:https://rheintal-interim.org/veranstaltung/iim-webinar-achieving-sustainable-assignment-acquisition-success-as-an-interim-professional-06-12-2023/
LOCATION:Virtuell
CATEGORIES:IIM Webinar
END:VEVENT
END:VCALENDAR