BEGIN:VCALENDAR
VERSION:2.0
PRODID:-//VRIM Verband Rheintaler Interim Manager - ECPv6.15.20//NONSGML v1.0//EN
CALSCALE:GREGORIAN
METHOD:PUBLISH
X-ORIGINAL-URL:https://rheintal-interim.org
X-WR-CALDESC:Veranstaltungen für VRIM Verband Rheintaler Interim Manager
REFRESH-INTERVAL;VALUE=DURATION:PT1H
X-Robots-Tag:noindex
X-PUBLISHED-TTL:PT1H
BEGIN:VTIMEZONE
TZID:Europe/Vaduz
BEGIN:DAYLIGHT
TZOFFSETFROM:+0100
TZOFFSETTO:+0200
TZNAME:CEST
DTSTART:20230326T010000
END:DAYLIGHT
BEGIN:STANDARD
TZOFFSETFROM:+0200
TZOFFSETTO:+0100
TZNAME:CET
DTSTART:20231029T010000
END:STANDARD
BEGIN:DAYLIGHT
TZOFFSETFROM:+0100
TZOFFSETTO:+0200
TZNAME:CEST
DTSTART:20240331T010000
END:DAYLIGHT
BEGIN:STANDARD
TZOFFSETFROM:+0200
TZOFFSETTO:+0100
TZNAME:CET
DTSTART:20241027T010000
END:STANDARD
BEGIN:DAYLIGHT
TZOFFSETFROM:+0100
TZOFFSETTO:+0200
TZNAME:CEST
DTSTART:20250330T010000
END:DAYLIGHT
BEGIN:STANDARD
TZOFFSETFROM:+0200
TZOFFSETTO:+0100
TZNAME:CET
DTSTART:20251026T010000
END:STANDARD
END:VTIMEZONE
BEGIN:VEVENT
DTSTART;TZID=Europe/Vaduz:20240401T180000
DTEND;TZID=Europe/Vaduz:20240401T210000
DTSTAMP:20260425T143053
CREATED:20231206T143618Z
LAST-MODIFIED:20231206T143618Z
UID:4926-1711994400-1712005200@rheintal-interim.org
SUMMARY:VRIM Stammtisch (jeden ersten Montag im Monat)
DESCRIPTION:Auf Anregung der VRIM Mitglieder anlässlich der Mitgliederversammlung 2022 wird der VRIM Stammtisch ins Leben gerufen. Er findet jeden ersten Montag im Monat statt. \nIm VRIM Stammtisch können sich Mitglieder und Gäste über Themen wie Erfahrungen in Mandaten\, bei Interviews oder während der Akquisition austauschen. Melden Sie sich über den folgenden Link an. Die Teilnahme ist kostenlos. \nhttps://us06web.zoom.us/j/88191992333?pwd=ZUQraURUVHZCSEFVT3RKVUpadjlIUT09 \nteilen teilen teilen teilen  teilen E-Mail 
URL:https://rheintal-interim.org/veranstaltung/vrim-stammtisch-jeden-ersten-montag-im-monat-24/
LOCATION:Virtuell
CATEGORIES:VRIM Inside
END:VEVENT
BEGIN:VEVENT
DTSTART;TZID=Europe/Vaduz:20240429T170000
DTEND;TZID=Europe/Vaduz:20240429T190000
DTSTAMP:20260425T143053
CREATED:20240401T075136Z
LAST-MODIFIED:20240409T062529Z
UID:5069-1714410000-1714417200@rheintal-interim.org
SUMMARY:VRIM-Inside plus  – Firmenbesuch "Fa. Amann Girrbach AG"
DESCRIPTION:Agenda:\n17:00h Start\n– kurze Firmenpräsentation und Vorstellung der Greenfieldplanung im Rahmen der Zusammenführung von drei bisherigen Standorten.\n– Rundgang in Produktion und Logistik mit „Good Practice“ für Intralogistik und kurze Wege zwischen Wareneingang und Versand.\n– Fragerund und Diskussion\nca. 19:00 Ende der Veranstaltung \nAnmeldung für Gäste und Mitglieder jedoch namentlich! \nteilen teilen teilen teilen  teilen E-Mail 
URL:https://rheintal-interim.org/veranstaltung/vrim-inside-plus-firmenbesuch-fa-amann-girrbach-ag/
LOCATION:Mall Herlan GmbH\, take-off GewerbePark 143\, Neuhausen ob Eck\, 78579\, Deutschland
CATEGORIES:VRIM Inside
END:VEVENT
END:VCALENDAR