BEGIN:VCALENDAR
VERSION:2.0
PRODID:-//VRIM Verband Rheintaler Interim Manager - ECPv6.15.20//NONSGML v1.0//EN
CALSCALE:GREGORIAN
METHOD:PUBLISH
X-ORIGINAL-URL:https://rheintal-interim.org
X-WR-CALDESC:Veranstaltungen für VRIM Verband Rheintaler Interim Manager
REFRESH-INTERVAL;VALUE=DURATION:PT1H
X-Robots-Tag:noindex
X-PUBLISHED-TTL:PT1H
BEGIN:VTIMEZONE
TZID:Europe/Vaduz
BEGIN:DAYLIGHT
TZOFFSETFROM:+0100
TZOFFSETTO:+0200
TZNAME:CEST
DTSTART:20240331T010000
END:DAYLIGHT
BEGIN:STANDARD
TZOFFSETFROM:+0200
TZOFFSETTO:+0100
TZNAME:CET
DTSTART:20241027T010000
END:STANDARD
BEGIN:DAYLIGHT
TZOFFSETFROM:+0100
TZOFFSETTO:+0200
TZNAME:CEST
DTSTART:20250330T010000
END:DAYLIGHT
BEGIN:STANDARD
TZOFFSETFROM:+0200
TZOFFSETTO:+0100
TZNAME:CET
DTSTART:20251026T010000
END:STANDARD
BEGIN:DAYLIGHT
TZOFFSETFROM:+0100
TZOFFSETTO:+0200
TZNAME:CEST
DTSTART:20260329T010000
END:DAYLIGHT
BEGIN:STANDARD
TZOFFSETFROM:+0200
TZOFFSETTO:+0100
TZNAME:CET
DTSTART:20261025T010000
END:STANDARD
END:VTIMEZONE
BEGIN:VEVENT
DTSTART;TZID=Europe/Vaduz:20250505T180000
DTEND;TZID=Europe/Vaduz:20250505T210000
DTSTAMP:20260421T145014
CREATED:20241230T090139Z
LAST-MODIFIED:20250408T173914Z
UID:5340-1746468000-1746478800@rheintal-interim.org
SUMMARY:VRIM Stammtisch (jeden ersten Montag im Monat)
DESCRIPTION:Thema des Stammtisches heute: „Sozial Media Kampagnen per KI und Best Practices“  Impulsvortrag von Martin Arland (ca. 30 Minuten) \n\nAuf Anregung der VRIM Mitglieder anlässlich der Mitgliederversammlung 2022 wird der VRIM Stammtisch ins Leben gerufen. Er findet jeden ersten Montag im Monat statt. \nIm VRIM Stammtisch können sich Mitglieder und Gäste über Themen wie Erfahrungen in Mandaten\, bei Interviews oder während der Akquisition austauschen. Melden Sie sich über den folgenden Link an. Die Teilnahme ist kostenlos. \n\n  \nhttps://us06web.zoom.us/j/88191992333?pwd=ZUQraURUVHZCSEFVT3RKVUpadjlIUT09 \nteilen teilen teilen teilen  teilen E-Mail 
URL:https://rheintal-interim.org/veranstaltung/vrim-stammtisch-jeden-ersten-montag-im-monat-37/
LOCATION:Virtuell
CATEGORIES:VRIM Inside
END:VEVENT
END:VCALENDAR